BEGIN:VCALENDAR
VERSION:2.0
PRODID:-//wp-events-plugin.com//7.2.3.1//EN
TZID:America/Chicago
X-WR-TIMEZONE:America/Chicago
BEGIN:VEVENT
UID:277@dfwexcel.com
DTSTART;TZID=America/Chicago:20261110T091500
DTEND;TZID=America/Chicago:20261110T170000
DTSTAMP:20260405T212128Z
URL:https://dfwexcel.com/events/formulas-and-functions-5-2026-06-19-2026-0
 8-04-2026-11-10/
SUMMARY:Formulas and Functions
DESCRIPTION:Click here to see Class Outline
CATEGORIES:Excel Formulas and Functions
LOCATION:Oklahoma City\, 100 NE 5th Street\, Oklahoma City\, OK\, 73104\, U
 nited States
GEO:35.472365;-97.509924
X-APPLE-STRUCTURED-LOCATION;VALUE=URI;X-ADDRESS=100 NE 5th Street\, Oklahom
 a City\, OK\, 73104\, United States;X-APPLE-RADIUS=100;X-TITLE=Oklahoma Ci
 ty:geo:35.472365,-97.509924
END:VEVENT
BEGIN:VTIMEZONE
TZID:America/Chicago
X-LIC-LOCATION:America/Chicago
BEGIN:STANDARD
DTSTART:20261101T010000
TZOFFSETFROM:-0500
TZOFFSETTO:-0600
TZNAME:CST
END:STANDARD
END:VTIMEZONE
END:VCALENDAR