Workbook

Sheet Assessment
A1: Excel Pivot Tables - Placement Assessment
A2: Find out if our Excel Pivot Tables class is the right fit for you. Excel Experts - dfwexcel.com
B3: Your name:
B4: Date:
A6: This assessment has two short parts. PART 1: rate your own skills in each area. PART 2: a 40-question knowledge check. It is fine to guess in Part 2 if unsure. When you finish, open the 'Your Results' tab - it blends both parts into one combined score, shows a topic-by-topic breakdown, and tells you which class is right for you.
A8: ="You have rated "&COUNTA(C12:C21)&" of 10 skills and answered "&COUNTA(C27:C114)&" of 40 questions. See the 'Your Results' tab." -> You have rated 0 of 10 skills and answered 0 of 40 questions. See the 'Your Results' tab.
A9: PART 1 - Rate Your Own Skills
A10: For each area, pick: A - Expert | B - Proficient | C - Some skills | D - Limited to no skills
A11: # | B11: Skill area | C11: Your rating
A12: 1 | B12: PivotTable Basics & Creation
A13: 2 | B13: Layout Areas (Rows, Columns, Values, Filters)
A14: 3 | B14: Summarizing Values
A15: 4 | B15: Grouping
A16: 5 | B16: Sorting & Filtering
A17: 6 | B17: Slicers & Timelines
A18: 7 | B18: Calculations (Show Values As)
A19: 8 | B19: Calculated Fields
A20: 9 | B20: PivotCharts
A21: 10 | B21: Refresh, Data Source & Formatting
A23: PART 2 - Knowledge Check (40 questions)
A24: Pick the best answer from the drop-down in the 'Your Answer' column.
A25: # | B25: Question | C25: Your Answer
A26: PivotTable Basics & Creation
A27: 1 | B27: Q1. A PivotTable is mainly used to: A) Quickly summarize and analyze large amounts of data B) Draw freehand shapes C) Write macros D) Check spelling
A29: 2 | B29: Q2. To create a PivotTable you start by: A) Selecting your data, then Insert > PivotTable B) Deleting your data C) Pressing F5 D) Printing the sheet
A31: 3 | B31: Q3. PivotTable source data works best as a single table with one header row and no blank rows or columns. (choose True or False)
A33: 4 | B33: Q4. By default, a new PivotTable is placed: A) On a new worksheet, or a location you choose B) Always in A1 of the same sheet C) Inside the source data D) In a separate file
A35: Layout Areas (Rows, Columns, Values, Filters)
A36: 5 | B36: Q5. Which four areas can you drag fields into? A) Rows, Columns, Values, Filters B) Top, Bottom, Left, Right C) Header, Body, Footer, Margin D) X, Y, Z, W
A38: 6 | B38: Q6. To list Region down the left side of the report, drag the Region field to: A) Rows B) Values C) Filters D) Columns
A40: 7 | B40: Q7. Placing a field in the Filters area lets you: A) Filter the whole PivotTable by that field B) Sum that field C) Sort that field D) Hide the worksheet
A42: 8 | B42: Q8. A numeric field dropped into the Values area is summarized automatically (by default, summed). (choose True or False)
A44: Summarizing Values
A45: 9 | B45: Q9. A TEXT field placed in the Values area is summarized by default as a: A) Count B) Sum C) Average D) Max
A47: 10 | B47: Q10. A NUMERIC field placed in the Values area is summarized by default as a: A) Count B) Sum C) Average D) Min
A49: 11 | B49: Q11. To change a value from Sum to Average, you use: A) Value Field Settings B) Format Painter C) Conditional Formatting D) Freeze Panes
A51: 12 | B51: Q12. The same field can be added to the Values area more than once with different calculations (e.g., Sum and Average). (choose True or False)
A53: Grouping
A54: 13 | B54: Q13. Right-clicking a date field and choosing Group lets you summarize by: A) Months, Quarters and Years B) Fonts C) Cell colors D) Macros
A56: 14 | B56: Q14. You can group numeric values (like ages) into: A) Ranges/bins such as 0-9, 10-19 B) Only single numbers C) Text only D) Charts only
...

Sheet Your Results
B1: Your Results
B2: Excel Pivot Tables Placement Assessment - updates automatically as you fill in the Assessment tab.
B4: Name: | C4: =Assessment!C3 -> 0
B5: Date: | C5: =Assessment!C4 -> 0
B6: Completed: | C6: =Key!H4&" of 10 skills rated, "&Key!H1&" of 40 questions answered" -> 0 of 10 skills rated, 0 of 40 questions answered
B8: Overall Result
B9: Knowledge quiz: | C9: =IF(Key!H1=0,"Not started",Key!H2&" / 40 ("&TEXT(Key!H3,"0%")&")") -> Not started
B10: Self-rating: | C10: =IF(Key!H4=0,"Not rated",TEXT(Key!H7,"0%")&" average confidence") -> Not rated
B11: Combined score: | C11: =IF(AND(Key!H1=0,Key!H4=0),"Not started yet",TEXT(Key!H8,"0%")) -> Not started yet
B12: Combined score = 70% knowledge quiz + 30% self-rating (weights can be changed on the hidden Key tab).
B13: Mastery threshold: | C13: 80% combined - at or above this you likely already know Excel Pivot Tables material
B14: Recommended class: | C14: =IF(AND(Key!H1=0,Key!H4=0),"-",IF(Key!H8>=0.8,"Excel Power Query & Power Pivot",IF(Key!H8>=0.5,"Excel Pivot Tables","Excel Formulas and Functions"))) -> -
B15: =IF(AND(Key!H1=0,Key!H4=0),"Complete both parts on the Assessment tab to see your placement.",IF(Key!H8>=0.8,"You have shown strong command of this material - you may be ready to move on to Excel Power Query & Power Pivot. Review any focus areas below first.",IF(Key!H8>=0.5,"Excel Pivot Tables is a great fit - you have a foundation and the class will fill the gaps shown below.","We would suggest building more fundamentals first - consider Excel Formulas and Functions - though this class will also review the basics."))) -> Complete both parts on the Assessment tab to see your placement.
B17: Topic-by-Topic Breakdown
B18: Topic | C18: Quiz | D18: Self-rating | E18: Combined | F18: Result
B19: PivotTable Basics & Creation | C19: =SUMIF(Key!$B$2:$B$41,B19,Key!$F$2:$F$41)&" / "&COUNTIF(Key!$B$2:$B$41,B19) -> 0 / 4 | D19: =VLOOKUP(B19,Key!$J$2:$M$11,4,0) -> Not rated | E19: =Key!$H$5*(SUMIF(Key!$B$2:$B$41,B19,Key!$F$2:$F$41)/COUNTIF(Key!$B$2:$B$41,B19))+Key!$H$6*VLOOKUP(B19,Key!$J$2:$L$11,3,0) -> 0 | F19: =IF(AND(Key!$H$1=0,Key!$H$4=0),"-",IF(E19>=0.7,"Solid","Focus area")) -> -
B20: Layout Areas (Rows, Columns, Values, Filters) | C20: =SUMIF(Key!$B$2:$B$41,B20,Key!$F$2:$F$41)&" / "&COUNTIF(Key!$B$2:$B$41,B20) -> 0 / 4 | D20: =VLOOKUP(B20,Key!$J$2:$M$11,4,0) -> Not rated | E20: =Key!$H$5*(SUMIF(Key!$B$2:$B$41,B20,Key!$F$2:$F$41)/COUNTIF(Key!$B$2:$B$41,B20))+Key!$H$6*VLOOKUP(B20,Key!$J$2:$L$11,3,0) -> 0 | F20: =IF(AND(Key!$H$1=0,Key!$H$4=0),"-",IF(E20>=0.7,"Solid","Focus area")) -> -
B21: Summarizing Values | C21: =SUMIF(Key!$B$2:$B$41,B21,Key!$F$2:$F$41)&" / "&COUNTIF(Key!$B$2:$B$41,B21) -> 0 / 4 | D21: =VLOOKUP(B21,Key!$J$2:$M$11,4,0) -> Not rated | E21: =Key!$H$5*(SUMIF(Key!$B$2:$B$41,B21,Key!$F$2:$F$41)/COUNTIF(Key!$B$2:$B$41,B21))+Key!$H$6*VLOOKUP(B21,Key!$J$2:$L$11,3,0) -> 0 | F21: =IF(AND(Key!$H$1=0,Key!$H$4=0),"-",IF(E21>=0.7,"Solid","Focus area")) -> -
B22: Grouping | C22: =SUMIF(Key!$B$2:$B$41,B22,Key!$F$2:$F$41)&" / "&COUNTIF(Key!$B$2:$B$41,B22) -> 0 / 4 | D22: =VLOOKUP(B22,Key!$J$2:$M$11,4,0) -> Not rated | E22: =Key!$H$5*(SUMIF(Key!$B$2:$B$41,B22,Key!$F$2:$F$41)/COUNTIF(Key!$B$2:$B$41,B22))+Key!$H$6*VLOOKUP(B22,Key!$J$2:$L$11,3,0) -> 0 | F22: =IF(AND(Key!$H$1=0,Key!$H$4=0),"-",IF(E22>=0.7,"Solid","Focus area")) -> -
B23: Sorting & Filtering | C23: =SUMIF(Key!$B$2:$B$41,B23,Key!$F$2:$F$41)&" / "&COUNTIF(Key!$B$2:$B$41,B23) -> 0 / 4 | D23: =VLOOKUP(B23,Key!$J$2:$M$11,4,0) -> Not rated | E23: =Key!$H$5*(SUMIF(Key!$B$2:$B$41,B23,Key!$F$2:$F$41)/COUNTIF(Key!$B$2:$B$41,B23))+Key!$H$6*VLOOKUP(B23,Key!$J$2:$L$11,3,0) -> 0 | F23: =IF(AND(Key!$H$1=0,Key!$H$4=0),"-",IF(E23>=0.7,"Solid","Focus area")) -> -
B24: Slicers & Timelines | C24: =SUMIF(Key!$B$2:$B$41,B24,Key!$F$2:$F$41)&" / "&COUNTIF(Key!$B$2:$B$41,B24) -> 0 / 4 | D24: =VLOOKUP(B24,Key!$J$2:$M$11,4,0) -> Not rated | E24: =Key!$H$5*(SUMIF(Key!$B$2:$B$41,B24,Key!$F$2:$F$41)/COUNTIF(Key!$B$2:$B$41,B24))+Key!$H$6*VLOOKUP(B24,Key!$J$2:$L$11,3,0) -> 0 | F24: =IF(AND(Key!$H$1=0,Key!$H$4=0),"-",IF(E24>=0.7,"Solid","Focus area")) -> -
B25: Calculations (Show Values As) | C25: =SUMIF(Key!$B$2:$B$41,B25,Key!$F$2:$F$41)&" / "&COUNTIF(Key!$B$2:$B$41,B25) -> 0 / 4 | D25: =VLOOKUP(B25,Key!$J$2:$M$11,4,0) -> Not rated | E25: =Key!$H$5*(SUMIF(Key!$B$2:$B$41,B25,Key!$F$2:$F$41)/COUNTIF(Key!$B$2:$B$41,B25))+Key!$H$6*VLOOKUP(B25,Key!$J$2:$L$11,3,0) -> 0 | F25: =IF(AND(Key!$H$1=0,Key!$H$4=0),"-",IF(E25>=0.7,"Solid","Focus area")) -> -
B26: Calculated Fields | C26: =SUMIF(Key!$B$2:$B$41,B26,Key!$F$2:$F$41)&" / "&COUNTIF(Key!$B$2:$B$41,B26) -> 0 / 4 | D26: =VLOOKUP(B26,Key!$J$2:$M$11,4,0) -> Not rated | E26: =Key!$H$5*(SUMIF(Key!$B$2:$B$41,B26,Key!$F$2:$F$41)/COUNTIF(Key!$B$2:$B$41,B26))+Key!$H$6*VLOOKUP(B26,Key!$J$2:$L$11,3,0) -> 0 | F26: =IF(AND(Key!$H$1=0,Key!$H$4=0),"-",IF(E26>=0.7,"Solid","Focus area")) -> -
B27: PivotCharts | C27: =SUMIF(Key!$B$2:$B$41,B27,Key!$F$2:$F$41)&" / "&COUNTIF(Key!$B$2:$B$41,B27) -> 0 / 4 | D27: =VLOOKUP(B27,Key!$J$2:$M$11,4,0) -> Not rated | E27: =Key!$H$5*(SUMIF(Key!$B$2:$B$41,B27,Key!$F$2:$F$41)/COUNTIF(Key!$B$2:$B$41,B27))+Key!$H$6*VLOOKUP(B27,Key!$J$2:$L$11,3,0) -> 0 | F27: =IF(AND(Key!$H$1=0,Key!$H$4=0),"-",IF(E27>=0.7,"Solid","Focus area")) -> -
B28: Refresh, Data Source & Formatting | C28: =SUMIF(Key!$B$2:$B$41,B28,Key!$F$2:$F$41)&" / "&COUNTIF(Key!$B$2:$B$41,B28) -> 0 / 4 | D28: =VLOOKUP(B28,Key!$J$2:$M$11,4,0) -> Not rated | E28: =Key!$H$5*(SUMIF(Key!$B$2:$B$41,B28,Key!$F$2:$F$41)/COUNTIF(Key!$B$2:$B$41,B28))+Key!$H$6*VLOOKUP(B28,Key!$J$2:$L$11,3,0) -> 0 | F28: =IF(AND(Key!$H$1=0,Key!$H$4=0),"-",IF(E28>=0.7,"Solid","Focus area")) -> -
B30: Focus areas are topics where your combined score is under 70%. The Excel Pivot Tables class covers these in depth. See the full schedule at dfwexcel.com/microsoft-excel-training-public-classes.
B32: © 2026 Excel Spreadsheet Pros LLC

Sheet Key
A1: Q | B1: Topic | C1: Type | D1: Correct | E1: Student | F1: Score | G1: answered_quiz | H1: =COUNTA(Assessment!C27:C114) -> 0 | J1: Topic | K1: SelfPts | L1: SelfPct | M1: SelfText
A2: 1 | B2: PivotTable Basics & Creation | C2: MC | D2: A | E2: =Assessment!C27 -> 0 | F2: =IF(IF(ISLOGICAL(Assessment!C27),IF(Assessment!C27,"TRUE","FALSE"),UPPER(TRIM(Assessment!C27&"")))=UPPER(TRIM($D2&"")),1,0) -> 0 | G2: correct | H2: =SUM(F2:F41) -> 0 | J2: PivotTable Basics & Creation | K2: =IF(LEFT(Assessment!C12,1)="A",3,IF(LEFT(Assessment!C12,1)="B",2,IF(LEFT(Assessment!C12,1)="C",1,0))) -> 0 | L2: =K2/3 -> 0 | M2: =IF(Assessment!C12="","Not rated",Assessment!C12) -> Not rated
A3: 2 | B3: PivotTable Basics & Creation | C3: MC | D3: A | E3: =Assessment!C29 -> 0 | F3: =IF(IF(ISLOGICAL(Assessment!C29),IF(Assessment!C29,"TRUE","FALSE"),UPPER(TRIM(Assessment!C29&"")))=UPPER(TRIM($D3&"")),1,0) -> 0 | G3: quiz_pct | H3: =H2/40 -> 0 | J3: Layout Areas (Rows, Columns, Values, Filters) | K3: =IF(LEFT(Assessment!C13,1)="A",3,IF(LEFT(Assessment!C13,1)="B",2,IF(LEFT(Assessment!C13,1)="C",1,0))) -> 0 | L3: =K3/3 -> 0 | M3: =IF(Assessment!C13="","Not rated",Assessment!C13) -> Not rated
A4: 3 | B4: PivotTable Basics & Creation | C4: TF | D4: True | E4: =Assessment!C31 -> 0 | F4: =IF(IF(ISLOGICAL(Assessment!C31),IF(Assessment!C31,"TRUE","FALSE"),UPPER(TRIM(Assessment!C31&"")))=UPPER(TRIM($D4&"")),1,0) -> 0 | G4: rated_self | H4: =COUNTA(Assessment!C12:C21) -> 0 | J4: Summarizing Values | K4: =IF(LEFT(Assessment!C14,1)="A",3,IF(LEFT(Assessment!C14,1)="B",2,IF(LEFT(Assessment!C14,1)="C",1,0))) -> 0 | L4: =K4/3 -> 0 | M4: =IF(Assessment!C14="","Not rated",Assessment!C14) -> Not rated
A5: 4 | B5: PivotTable Basics & Creation | C5: MC | D5: A | E5: =Assessment!C33 -> 0 | F5: =IF(IF(ISLOGICAL(Assessment!C33),IF(Assessment!C33,"TRUE","FALSE"),UPPER(TRIM(Assessment!C33&"")))=UPPER(TRIM($D5&"")),1,0) -> 0 | G5: w_quiz | H5: 0.7 | J5: Grouping | K5: =IF(LEFT(Assessment!C15,1)="A",3,IF(LEFT(Assessment!C15,1)="B",2,IF(LEFT(Assessment!C15,1)="C",1,0))) -> 0 | L5: =K5/3 -> 0 | M5: =IF(Assessment!C15="","Not rated",Assessment!C15) -> Not rated
A6: 5 | B6: Layout Areas (Rows, Columns, Values, Filters) | C6: MC | D6: A | E6: =Assessment!C36 -> 0 | F6: =IF(IF(ISLOGICAL(Assessment!C36),IF(Assessment!C36,"TRUE","FALSE"),UPPER(TRIM(Assessment!C36&"")))=UPPER(TRIM($D6&"")),1,0) -> 0 | G6: w_self | H6: 0.3 | J6: Sorting & Filtering | K6: =IF(LEFT(Assessment!C16,1)="A",3,IF(LEFT(Assessment!C16,1)="B",2,IF(LEFT(Assessment!C16,1)="C",1,0))) -> 0 | L6: =K6/3 -> 0 | M6: =IF(Assessment!C16="","Not rated",Assessment!C16) -> Not rated
A7: 6 | B7: Layout Areas (Rows, Columns, Values, Filters) | C7: MC | D7: A | E7: =Assessment!C38 -> 0 | F7: =IF(IF(ISLOGICAL(Assessment!C38),IF(Assessment!C38,"TRUE","FALSE"),UPPER(TRIM(Assessment!C38&"")))=UPPER(TRIM($D7&"")),1,0) -> 0 | G7: self_pct | H7: =SUM(K2:K11)/30 -> 0 | J7: Slicers & Timelines | K7: =IF(LEFT(Assessment!C17,1)="A",3,IF(LEFT(Assessment!C17,1)="B",2,IF(LEFT(Assessment!C17,1)="C",1,0))) -> 0 | L7: =K7/3 -> 0 | M7: =IF(Assessment!C17="","Not rated",Assessment!C17) -> Not rated
A8: 7 | B8: Layout Areas (Rows, Columns, Values, Filters) | C8: MC | D8: A | E8: =Assessment!C40 -> 0 | F8: =IF(IF(ISLOGICAL(Assessment!C40),IF(Assessment!C40,"TRUE","FALSE"),UPPER(TRIM(Assessment!C40&"")))=UPPER(TRIM($D8&"")),1,0) -> 0 | G8: combined | H8: =H5*H3+H6*H7 -> 0 | J8: Calculations (Show Values As) | K8: =IF(LEFT(Assessment!C18,1)="A",3,IF(LEFT(Assessment!C18,1)="B",2,IF(LEFT(Assessment!C18,1)="C",1,0))) -> 0 | L8: =K8/3 -> 0 | M8: =IF(Assessment!C18="","Not rated",Assessment!C18) -> Not rated
A9: 8 | B9: Layout Areas (Rows, Columns, Values, Filters) | C9: TF | D9: True | E9: =Assessment!C42 -> 0 | F9: =IF(IF(ISLOGICAL(Assessment!C42),IF(Assessment!C42,"TRUE","FALSE"),UPPER(TRIM(Assessment!C42&"")))=UPPER(TRIM($D9&"")),1,0) -> 0 | J9: Calculated Fields | K9: =IF(LEFT(Assessment!C19,1)="A",3,IF(LEFT(Assessment!C19,1)="B",2,IF(LEFT(Assessment!C19,1)="C",1,0))) -> 0 | L9: =K9/3 -> 0 | M9: =IF(Assessment!C19="","Not rated",Assessment!C19) -> Not rated
A10: 9 | B10: Summarizing Values | C10: MC | D10: A | E10: =Assessment!C45 -> 0 | F10: =IF(IF(ISLOGICAL(Assessment!C45),IF(Assessment!C45,"TRUE","FALSE"),UPPER(TRIM(Assessment!C45&"")))=UPPER(TRIM($D10&"")),1,0) -> 0 | J10: PivotCharts | K10: =IF(LEFT(Assessment!C20,1)="A",3,IF(LEFT(Assessment!C20,1)="B",2,IF(LEFT(Assessment!C20,1)="C",1,0))) -> 0 | L10: =K10/3 -> 0 | M10: =IF(Assessment!C20="","Not rated",Assessment!C20) -> Not rated
A11: 10 | B11: Summarizing Values | C11: MC | D11: B | E11: =Assessment!C47 -> 0 | F11: =IF(IF(ISLOGICAL(Assessment!C47),IF(Assessment!C47,"TRUE","FALSE"),UPPER(TRIM(Assessment!C47&"")))=UPPER(TRIM($D11&"")),1,0) -> 0 | J11: Refresh, Data Source & Formatting | K11: =IF(LEFT(Assessment!C21,1)="A",3,IF(LEFT(Assessment!C21,1)="B",2,IF(LEFT(Assessment!C21,1)="C",1,0))) -> 0 | L11: =K11/3 -> 0 | M11: =IF(Assessment!C21="","Not rated",Assessment!C21) -> Not rated
A12: 11 | B12: Summarizing Values | C12: MC | D12: A | E12: =Assessment!C49 -> 0 | F12: =IF(IF(ISLOGICAL(Assessment!C49),IF(Assessment!C49,"TRUE","FALSE"),UPPER(TRIM(Assessment!C49&"")))=UPPER(TRIM($D12&"")),1,0) -> 0
A13: 12 | B13: Summarizing Values | C13: TF | D13: True | E13: =Assessment!C51 -> 0 | F13: =IF(IF(ISLOGICAL(Assessment!C51),IF(Assessment!C51,"TRUE","FALSE"),UPPER(TRIM(Assessment!C51&"")))=UPPER(TRIM($D13&"")),1,0) -> 0
A14: 13 | B14: Grouping | C14: MC | D14: A | E14: =Assessment!C54 -> 0 | F14: =IF(IF(ISLOGICAL(Assessment!C54),IF(Assessment!C54,"TRUE","FALSE"),UPPER(TRIM(Assessment!C54&"")))=UPPER(TRIM($D14&"")),1,0) -> 0
A15: 14 | B15: Grouping | C15: MC | D15: A | E15: =Assessment!C56 -> 0 | F15: =IF(IF(ISLOGICAL(Assessment!C56),IF(Assessment!C56,"TRUE","FALSE"),UPPER(TRIM(Assessment!C56&"")))=UPPER(TRIM($D15&"")),1,0) -> 0
A16: 15 | B16: Grouping | C16: TF | D16: True | E16: =Assessment!C58 -> 0 | F16: =IF(IF(ISLOGICAL(Assessment!C58),IF(Assessment!C58,"TRUE","FALSE"),UPPER(TRIM(Assessment!C58&"")))=UPPER(TRIM($D16&"")),1,0) -> 0
A17: 16 | B17: Grouping | C17: MC | D17: A | E17: =Assessment!C60 -> 0 | F17: =IF(IF(ISLOGICAL(Assessment!C60),IF(Assessment!C60,"TRUE","FALSE"),UPPER(TRIM(Assessment!C60&"")))=UPPER(TRIM($D17&"")),1,0) -> 0
A18: 17 | B18: Sorting & Filtering | C18: MC | D18: A | E18: =Assessment!C63 -> 0 | F18: =IF(IF(ISLOGICAL(Assessment!C63),IF(Assessment!C63,"TRUE","FALSE"),UPPER(TRIM(Assessment!C63&"")))=UPPER(TRIM($D18&"")),1,0) -> 0
A19: 18 | B19: Sorting & Filtering | C19: MC | D19: A | E19: =Assessment!C65 -> 0 | F19: =IF(IF(ISLOGICAL(Assessment!C65),IF(Assessment!C65,"TRUE","FALSE"),UPPER(TRIM(Assessment!C65&"")))=UPPER(TRIM($D19&"")),1,0) -> 0
A20: 19 | B20: Sorting & Filtering | C20: TF | D20: True | E20: =Assessment!C67 -> 0 | F20: =IF(IF(ISLOGICAL(Assessment!C67),IF(Assessment!C67,"TRUE","FALSE"),UPPER(TRIM(Assessment!C67&"")))=UPPER(TRIM($D20&"")),1,0) -> 0
A21: 20 | B21: Sorting & Filtering | C21: MC | D21: A | E21: =Assessment!C69 -> 0 | F21: =IF(IF(ISLOGICAL(Assessment!C69),IF(Assessment!C69,"TRUE","FALSE"),UPPER(TRIM(Assessment!C69&"")))=UPPER(TRIM($D21&"")),1,0) -> 0
A22: 21 | B22: Slicers & Timelines | C22: MC | D22: A | E22: =Assessment!C72 -> 0 | F22: =IF(IF(ISLOGICAL(Assessment!C72),IF(Assessment!C72,"TRUE","FALSE"),UPPER(TRIM(Assessment!C72&"")))=UPPER(TRIM($D22&"")),1,0) -> 0
A23: 22 | B23: Slicers & Timelines | C23: MC | D23: A | E23: =Assessment!C74 -> 0 | F23: =IF(IF(ISLOGICAL(Assessment!C74),IF(Assessment!C74,"TRUE","FALSE"),UPPER(TRIM(Assessment!C74&"")))=UPPER(TRIM($D23&"")),1,0) -> 0
A24: 23 | B24: Slicers & Timelines | C24: TF | D24: True | E24: =Assessment!C76 -> 0 | F24: =IF(IF(ISLOGICAL(Assessment!C76),IF(Assessment!C76,"TRUE","FALSE"),UPPER(TRIM(Assessment!C76&"")))=UPPER(TRIM($D24&"")),1,0) -> 0
A25: 24 | B25: Slicers & Timelines | C25: MC | D25: A | E25: =Assessment!C78 -> 0 | F25: =IF(IF(ISLOGICAL(Assessment!C78),IF(Assessment!C78,"TRUE","FALSE"),UPPER(TRIM(Assessment!C78&"")))=UPPER(TRIM($D25&"")),1,0) -> 0
A26: 25 | B26: Calculations (Show Values As) | C26: MC | D26: A | E26: =Assessment!C81 -> 0 | F26: =IF(IF(ISLOGICAL(Assessment!C81),IF(Assessment!C81,"TRUE","FALSE"),UPPER(TRIM(Assessment!C81&"")))=UPPER(TRIM($D26&"")),1,0) -> 0
A27: 26 | B27: Calculations (Show Values As) | C27: MC | D27: A | E27: =Assessment!C83 -> 0 | F27: =IF(IF(ISLOGICAL(Assessment!C83),IF(Assessment!C83,"TRUE","FALSE"),UPPER(TRIM(Assessment!C83&"")))=UPPER(TRIM($D27&"")),1,0) -> 0
A28: 27 | B28: Calculations (Show Values As) | C28: MC | D28: A | E28: =Assessment!C85 -> 0 | F28: =IF(IF(ISLOGICAL(Assessment!C85),IF(Assessment!C85,"TRUE","FALSE"),UPPER(TRIM(Assessment!C85&"")))=UPPER(TRIM($D28&"")),1,0) -> 0
A29: 28 | B29: Calculations (Show Values As) | C29: TF | D29: True | E29: =Assessment!C87 -> 0 | F29: =IF(IF(ISLOGICAL(Assessment!C87),IF(Assessment!C87,"TRUE","FALSE"),UPPER(TRIM(Assessment!C87&"")))=UPPER(TRIM($D29&"")),1,0) -> 0
A30: 29 | B30: Calculated Fields | C30: MC | D30: A | E30: =Assessment!C90 -> 0 | F30: =IF(IF(ISLOGICAL(Assessment!C90),IF(Assessment!C90,"TRUE","FALSE"),UPPER(TRIM(Assessment!C90&"")))=UPPER(TRIM($D30&"")),1,0) -> 0
A31: 30 | B31: Calculated Fields | C31: MC | D31: A | E31: =Assessment!C92 -> 0 | F31: =IF(IF(ISLOGICAL(Assessment!C92),IF(Assessment!C92,"TRUE","FALSE"),UPPER(TRIM(Assessment!C92&"")))=UPPER(TRIM($D31&"")),1,0) -> 0
A32: 31 | B32: Calculated Fields | C32: TF | D32: True | E32: =Assessment!C94 -> 0 | F32: =IF(IF(ISLOGICAL(Assessment!C94),IF(Assessment!C94,"TRUE","FALSE"),UPPER(TRIM(Assessment!C94&"")))=UPPER(TRIM($D32&"")),1,0) -> 0
A33: 32 | B33: Calculated Fields | C33: MC | D33: A | E33: =Assessment!C96 -> 0 | F33: =IF(IF(ISLOGICAL(Assessment!C96),IF(Assessment!C96,"TRUE","FALSE"),UPPER(TRIM(Assessment!C96&"")))=UPPER(TRIM($D33&"")),1,0) -> 0
A34: 33 | B34: PivotCharts | C34: MC | D34: A | E34: =Assessment!C99 -> 0 | F34: =IF(IF(ISLOGICAL(Assessment!C99),IF(Assessment!C99,"TRUE","FALSE"),UPPER(TRIM(Assessment!C99&"")))=UPPER(TRIM($D34&"")),1,0) -> 0
A35: 34 | B35: PivotCharts | C35: MC | D35: A | E35: =Assessment!C101 -> 0 | F35: =IF(IF(ISLOGICAL(Assessment!C101),IF(Assessment!C101,"TRUE","FALSE"),UPPER(TRIM(Assessment!C101&"")))=UPPER(TRIM($D35&"")),1,0) -> 0
A36: 35 | B36: PivotCharts | C36: TF | D36: True | E36: =Assessment!C103 -> 0 | F36: =IF(IF(ISLOGICAL(Assessment!C103),IF(Assessment!C103,"TRUE","FALSE"),UPPER(TRIM(Assessment!C103&"")))=UPPER(TRIM($D36&"")),1,0) -> 0
A37: 36 | B37: PivotCharts | C37: MC | D37: A | E37: =Assessment!C105 -> 0 | F37: =IF(IF(ISLOGICAL(Assessment!C105),IF(Assessment!C105,"TRUE","FALSE"),UPPER(TRIM(Assessment!C105&"")))=UPPER(TRIM($D37&"")),1,0) -> 0
A38: 37 | B38: Refresh, Data Source & Formatting | C38: MC | D38: A | E38: =Assessment!C108 -> 0 | F38: =IF(IF(ISLOGICAL(Assessment!C108),IF(Assessment!C108,"TRUE","FALSE"),UPPER(TRIM(Assessment!C108&"")))=UPPER(TRIM($D38&"")),1,0) -> 0
A39: 38 | B39: Refresh, Data Source & Formatting | C39: MC | D39: A | E39: =Assessment!C110 -> 0 | F39: =IF(IF(ISLOGICAL(Assessment!C110),IF(Assessment!C110,"TRUE","FALSE"),UPPER(TRIM(Assessment!C110&"")))=UPPER(TRIM($D39&"")),1,0) -> 0
A40: 39 | B40: Refresh, Data Source & Formatting | C40: TF | D40: True | E40: =Assessment!C112 -> 0 | F40: =IF(IF(ISLOGICAL(Assessment!C112),IF(Assessment!C112,"TRUE","FALSE"),UPPER(TRIM(Assessment!C112&"")))=UPPER(TRIM($D40&"")),1,0) -> 0
...
